BEGIN:VCALENDAR
VERSION:2.0
PRODID:-//Reaching The World Ministries - ECPv6.0.11//NONSGML v1.0//EN
CALSCALE:GREGORIAN
METHOD:PUBLISH
X-ORIGINAL-URL:https://rtwmi.org
X-WR-CALDESC:Events for Reaching The World Ministries
REFRESH-INTERVAL;VALUE=DURATION:PT1H
X-Robots-Tag:noindex
X-PUBLISHED-TTL:PT1H
BEGIN:VTIMEZONE
TZID:UTC
BEGIN:STANDARD
TZOFFSETFROM:+0000
TZOFFSETTO:+0000
TZNAME:UTC
DTSTART:20240101T000000
END:STANDARD
END:VTIMEZONE
BEGIN:VEVENT
DTSTART;TZID=UTC:20240322T190000
DTEND;TZID=UTC:20240322T210000
DTSTAMP:20260423T164821
CREATED:20240218T032031Z
LAST-MODIFIED:20240218T032506Z
UID:923-1711134000-1711141200@rtwmi.org
SUMMARY:Women Reaching Women
DESCRIPTION:Our Women’s Ministry exists to encourage you in your faith\, to equip you to stand firm in your beliefs\, and to help you engage with your community and serve “the least of these.” Through Bible studies\, various groups\, and special events we will walk alongside you as you strive to enrich your relationships with Jesus Christ\, your family\, and friends.
URL:https://rtwmi.org/event/women-reaching2-2/
LOCATION:RTW Ministries\, 4063 W Pierson Rd\, Flint\, MI\, 48504\, United States
CATEGORIES:Women's Ministry
ATTACH;FMTTYPE=image/png:https://rtwmi.org/wp-content/uploads/2024/02/womenreaching3.png
ORGANIZER;CN="RTW%20Ministries%2C%20Int%27l":MAILTO:info@rtwmi.org
END:VEVENT
BEGIN:VEVENT
DTSTART;TZID=UTC:20240331T103000
DTEND;TZID=UTC:20240331T120000
DTSTAMP:20260423T164821
CREATED:20240202T033230Z
LAST-MODIFIED:20240315T141507Z
UID:839-1711881000-1711886400@rtwmi.org
SUMMARY:Next-Gen Youth Experience
DESCRIPTION:Our youth program is a vibrant and inclusive community dedicated to nurturing the spiritual growth\, personal development\, and lasting relationships of young individuals aged 12 to 24. Rooted in Christian values and teachings\, our program offers a diverse range of exciting activities\, engaging discussions\, and impactful service projects that encourage our youth to explore their faith\, discover their purpose\, and make a positive difference in the world. \nThrough dynamic youth-led worship services\, inspiring guest speakers\, and meaningful small group sessions\, we strive to create a safe and welcoming space where young people can deepen their relationship with God\, foster authentic friendships\, and develop essential life skills. \nOur dedicated team of mentors and volunteers guide and support our youth\, helping them navigate the challenges of adolescence while equipping them with a strong foundation of faith and values that will empower them to become compassionate leaders and ambassadors of Christ’s love in their communities.
URL:https://rtwmi.org/event/youth-program/
LOCATION:RTW Ministries\, 4063 W Pierson Rd\, Flint\, MI\, 48504\, United States
CATEGORIES:Children,Women's Ministry,Worship
ATTACH;FMTTYPE=image/png:https://rtwmi.org/wp-content/uploads/2024/02/teens.png
ORGANIZER;CN="RTW%20Ministries%2C%20Int%27l":MAILTO:info@rtwmi.org
END:VEVENT
END:VCALENDAR